BEGIN:VCALENDAR
VERSION:2.0
PRODID:-//Uppsala fotografiska sällskap - ECPv4.9.14//NONSGML v1.0//EN
CALSCALE:GREGORIAN
METHOD:PUBLISH
X-WR-CALNAME:Uppsala fotografiska sällskap
X-ORIGINAL-URL:https://uppsalafotografiska.se
X-WR-CALDESC:Events for Uppsala fotografiska sällskap
BEGIN:VTIMEZONE
TZID:Europe/Stockholm
BEGIN:DAYLIGHT
TZOFFSETFROM:+0100
TZOFFSETTO:+0200
TZNAME:CEST
DTSTART:20240331T010000
END:DAYLIGHT
BEGIN:STANDARD
TZOFFSETFROM:+0200
TZOFFSETTO:+0100
TZNAME:CET
DTSTART:20241027T010000
END:STANDARD
END:VTIMEZONE
BEGIN:VEVENT
DTSTART;TZID=Europe/Stockholm:20240428T120000
DTEND;TZID=Europe/Stockholm:20240428T120000
DTSTAMP:20260422T085753
CREATED:20240319T213146Z
LAST-MODIFIED:20240320T095352Z
UID:22136-1714305600-1714305600@uppsalafotografiska.se
SUMMARY:Besök på fotografiska museet
DESCRIPTION:Fotografiska museet i Stockholm den 28 april 2024 \nFölj med UFS till Fotografiska museet i Stockholm och se utställningarna \nKaleeidoscope av danska Henriette Sabroe Ebbesen. Här suddar hon ut gränserna mellan fotografi och måleri\, verklighet och fantasi. \nTapesteries av Cindy Sherman. gobelängen. Här tolkar hon sina förvrängda Instagram-selfies i enorma vävda textilier\, med porträtt som utforskar identitet\, könsroller och representation. \nDatum: 28 april 2024 kl 12.00 \nVi reser gemensamt med tåg till Stockholm vid 10-tiden alternativt ses vi vid entrén till Fotografiska kl. 12.00. \nVi tittar gemensamt på utställningarna. Därefter äter vi lunch/fikar i restaurangen på Fotografiska för att dela tankar och diskutera det vi sett. \nEntrébiljetter: Kan köpas drop-in på plats. Förbokar du biljett online får du dock ett mer fördelaktigt pris. Medlemmar har alltid gratis entré. Observera att förköpta biljetter återbetalas ej. \nVuxna: 179-219 kr beroende på online eller drop-in pris. \nSeniorer: 125-179 kr beroende på online eller drop-in pris. \nStudent:  139-179Kr beroende på online eller drop-in pris. \nUFS bjuder på inträdet till Fotografiska för vår ungdomsmedlemmar (de som är 25 år eller yngre) oavsett vilket pris man betalar. \nSkicka ett mejl till Bodil Lidström bodil847@hotmail.com om du vill hänga med så vi vet hur många vi blir. Vi som åker tåg samlas på stationen. Som ungdom får du entrébiljetten betald av UFS. Alla bör bokar själva on-line slot tid kl 12. \nUngdomar skickar kvittot till kassor@uppsalafotografiska.se  (vidarebefordrar kvittot från webbutiken eller kort på kvitto från drop-in inköp) tillsammans med era bankuppgifter. Kassören betalar ut sedan inträdesavgiften efter avstämning med medlemsregistret. \n
URL:https://uppsalafotografiska.se/event/besok-pa-fotografiska-museet/
LOCATION:Fotografiska museet\, Stockholm\, Stadsgårdshamnen 22\, Stockholm
END:VEVENT
END:VCALENDAR