BEGIN:VCALENDAR
VERSION:2.0
PRODID:-//Uppsala fotografiska sällskap - ECPv4.9.14//NONSGML v1.0//EN
CALSCALE:GREGORIAN
METHOD:PUBLISH
X-WR-CALNAME:Uppsala fotografiska sällskap
X-ORIGINAL-URL:https://uppsalafotografiska.se
X-WR-CALDESC:Events for Uppsala fotografiska sällskap
BEGIN:VTIMEZONE
TZID:Europe/Stockholm
BEGIN:DAYLIGHT
TZOFFSETFROM:+0100
TZOFFSETTO:+0200
TZNAME:CEST
DTSTART:20230326T010000
END:DAYLIGHT
BEGIN:STANDARD
TZOFFSETFROM:+0200
TZOFFSETTO:+0100
TZNAME:CET
DTSTART:20231029T010000
END:STANDARD
END:VTIMEZONE
BEGIN:VEVENT
DTSTART;TZID=Europe/Stockholm:20230525T190000
DTEND;TZID=Europe/Stockholm:20230525T193000
DTSTAMP:20260425T122736
CREATED:20230416T212251Z
LAST-MODIFIED:20230416T212251Z
UID:21034-1685041200-1685043000@uppsalafotografiska.se
SUMMARY:Extra årsmöte
DESCRIPTION:I samband med månadsmötet i maj håller vi ett kort extra årsmöte för att avhandla ett andra beslut i frågan om att ändra stadgarna när det gäller avgiftsperiod för medlemsavgift. \n
URL:https://uppsalafotografiska.se/event/extra-arsmote/
LOCATION:Uppsala Fotografiska Sällskap\, Övre Slottsgatan 14A\, Uppsala\, 753 10\, Sverige
ATTACH;FMTTYPE=image/jpeg:https://uppsalafotografiska.se/wp-content/uploads/2023/02/UFS_logga_MA-1.jpg
END:VEVENT
END:VCALENDAR