BEGIN:VCALENDAR
VERSION:2.0
PRODID:-//Uppsala fotografiska sällskap - ECPv4.9.14//NONSGML v1.0//EN
CALSCALE:GREGORIAN
METHOD:PUBLISH
X-WR-CALNAME:Uppsala fotografiska sällskap
X-ORIGINAL-URL:https://uppsalafotografiska.se
X-WR-CALDESC:Events for Uppsala fotografiska sällskap
BEGIN:VTIMEZONE
TZID:Europe/Stockholm
BEGIN:DAYLIGHT
TZOFFSETFROM:+0100
TZOFFSETTO:+0200
TZNAME:CEST
DTSTART:20230326T010000
END:DAYLIGHT
BEGIN:STANDARD
TZOFFSETFROM:+0200
TZOFFSETTO:+0100
TZNAME:CET
DTSTART:20231029T010000
END:STANDARD
END:VTIMEZONE
BEGIN:VEVENT
DTSTART;TZID=Europe/Stockholm:20230806T160000
DTEND;TZID=Europe/Stockholm:20230806T190000
DTSTAMP:20260423T081449
CREATED:20230705T091231Z
LAST-MODIFIED:20230705T091231Z
UID:21209-1691337600-1691348400@uppsalafotografiska.se
SUMMARY:Finissage VÄVFÅGEL Fotograf Barbro Agstam
DESCRIPTION:Barbro Agstam visar en fotoutställning som går under namnet VÄVFÅGEL. Den visar på ett mycket kärleksfullt sätt psykisk ohälsa\, sexuell läggning\, svårigheten att komma ut och djup kärlek. Bilderna berättar om fördomar\, hopp och glädje när man äntligen funnit sitt hem och kan bygga sitt eget bo precis som man själv vill som vävfågeln.\nMedverkande är Sara och Elin som med sin öppna och vackra berättelse om vägen genom livet låtit Barbro skapa bilder av dem och Susanna som sminkat dem på ett personligt och uttrycksfullt sätt för att få fram deras karaktärer.\nVälkommen till en Fotoutställning med glöd och kärlek. \n
URL:https://uppsalafotografiska.se/event/finissage-vavfagel-fotograf-barbro-agstam/
LOCATION:Uppsala Fotografiska Sällskap\, Övre Slottsgatan 14A\, Uppsala\, 753 10\, Sverige
ATTACH;FMTTYPE=image/jpeg:https://uppsalafotografiska.se/wp-content/uploads/2023/07/Facebookbild.jpg
END:VEVENT
END:VCALENDAR