BEGIN:VCALENDAR
VERSION:2.0
PRODID:-//Uppsala fotografiska sällskap - ECPv4.9.14//NONSGML v1.0//EN
CALSCALE:GREGORIAN
METHOD:PUBLISH
X-WR-CALNAME:Uppsala fotografiska sällskap
X-ORIGINAL-URL:https://uppsalafotografiska.se
X-WR-CALDESC:Events for Uppsala fotografiska sällskap
BEGIN:VTIMEZONE
TZID:Europe/Stockholm
BEGIN:DAYLIGHT
TZOFFSETFROM:+0100
TZOFFSETTO:+0200
TZNAME:CEST
DTSTART:20260329T010000
END:DAYLIGHT
BEGIN:STANDARD
TZOFFSETFROM:+0200
TZOFFSETTO:+0100
TZNAME:CET
DTSTART:20261025T010000
END:STANDARD
END:VTIMEZONE
BEGIN:VEVENT
DTSTART;TZID=Europe/Stockholm:20260129T190000
DTEND;TZID=Europe/Stockholm:20260129T200000
DTSTAMP:20260425T125557
CREATED:20251116T211301Z
LAST-MODIFIED:20260120T154703Z
UID:23732-1769713200-1769716800@uppsalafotografiska.se
SUMMARY:Föredrag - Sonja Hesslow\, konstfotograf
DESCRIPTION:På årets första månadsmöte gästas vi av ingen mindre än Sonja Hesslow\, som håller ett föredrag där hon berättar om sina bilder och sin fotografi.\n\nSonja Hesslow är en konstfotograf som skapar surrealistiska fotokonstverk av olika slag. Bland annat genom att bygga upp små scener som hon fotograferar och sen klipper hon in sig själv i.\n\n2025 vann hon SM-guld i fotografi i kategorin Fine Art.\n\nLäs mer om henne och hennes bilder på https://sonjahesslow.se/om-mig\n\nFöredraget är öppet endast för UFS medlemmar.\n  \n  \n
URL:https://uppsalafotografiska.se/event/foredrag-sonja-hesslow-konstfotograf/
LOCATION:Uppsala Fotografiska Sällskap\, Övre Slottsgatan 14A\, Uppsala\, 753 10\, Sverige
ATTACH;FMTTYPE=image/jpeg:https://uppsalafotografiska.se/wp-content/uploads/2026/01/Sonja_Hesslow.jpg
END:VEVENT
END:VCALENDAR