BEGIN:VCALENDAR
VERSION:2.0
PRODID:-//Uppsala fotografiska sällskap - ECPv4.9.14//NONSGML v1.0//EN
CALSCALE:GREGORIAN
METHOD:PUBLISH
X-WR-CALNAME:Uppsala fotografiska sällskap
X-ORIGINAL-URL:https://uppsalafotografiska.se
X-WR-CALDESC:Events for Uppsala fotografiska sällskap
BEGIN:VTIMEZONE
TZID:Europe/Stockholm
BEGIN:DAYLIGHT
TZOFFSETFROM:+0100
TZOFFSETTO:+0200
TZNAME:CEST
DTSTART:20170326T010000
END:DAYLIGHT
BEGIN:STANDARD
TZOFFSETFROM:+0200
TZOFFSETTO:+0100
TZNAME:CET
DTSTART:20171029T010000
END:STANDARD
END:VTIMEZONE
BEGIN:VEVENT
DTSTART;TZID=Europe/Stockholm:20171119T100000
DTEND;TZID=Europe/Stockholm:20171119T130000
DTSTAMP:20260423T011507
CREATED:20171022T194836Z
LAST-MODIFIED:20171022T194836Z
UID:6092-1511085600-1511096400@uppsalafotografiska.se
SUMMARY:Fotopromenad
DESCRIPTION:Dags att rasta kameran! \nHåll koll på hemsidan och Facebook – blir det extra dåligt väder så kan det bli inställt. \n
URL:https://uppsalafotografiska.se/event/fotopromenad-2/
ATTACH;FMTTYPE=image/jpeg:https://uppsalafotografiska.se/wp-content/uploads/2017/10/64079889f4d5644be7c942f5e4df8cf3.jpg
END:VEVENT
END:VCALENDAR