BEGIN:VCALENDAR
VERSION:2.0
PRODID:-//Uppsala fotografiska sällskap - ECPv4.9.14//NONSGML v1.0//EN
CALSCALE:GREGORIAN
METHOD:PUBLISH
X-WR-CALNAME:Uppsala fotografiska sällskap
X-ORIGINAL-URL:https://uppsalafotografiska.se
X-WR-CALDESC:Events for Uppsala fotografiska sällskap
BEGIN:VTIMEZONE
TZID:Europe/Stockholm
BEGIN:DAYLIGHT
TZOFFSETFROM:+0100
TZOFFSETTO:+0200
TZNAME:CEST
DTSTART:20170326T010000
END:DAYLIGHT
BEGIN:STANDARD
TZOFFSETFROM:+0200
TZOFFSETTO:+0100
TZNAME:CET
DTSTART:20171029T010000
END:STANDARD
END:VTIMEZONE
BEGIN:VEVENT
DTSTART;TZID=Europe/Stockholm:20171122T190000
DTEND;TZID=Europe/Stockholm:20171122T190000
DTSTAMP:20260423T063324
CREATED:20171022T203013Z
LAST-MODIFIED:20171022T203013Z
UID:6103-1511377200-1511377200@uppsalafotografiska.se
SUMMARY:Fotopromenad - återträff
DESCRIPTION:
URL:https://uppsalafotografiska.se/event/fotopromenad-atertraff-3/
ATTACH;FMTTYPE=:
END:VEVENT
END:VCALENDAR