BEGIN:VCALENDAR
VERSION:2.0
PRODID:-//Uppsala fotografiska sällskap - ECPv4.9.14//NONSGML v1.0//EN
CALSCALE:GREGORIAN
METHOD:PUBLISH
X-WR-CALNAME:Uppsala fotografiska sällskap
X-ORIGINAL-URL:https://uppsalafotografiska.se
X-WR-CALDESC:Events for Uppsala fotografiska sällskap
BEGIN:VTIMEZONE
TZID:Europe/Stockholm
BEGIN:DAYLIGHT
TZOFFSETFROM:+0100
TZOFFSETTO:+0200
TZNAME:CEST
DTSTART:20180325T010000
END:DAYLIGHT
BEGIN:STANDARD
TZOFFSETFROM:+0200
TZOFFSETTO:+0100
TZNAME:CET
DTSTART:20181028T010000
END:STANDARD
END:VTIMEZONE
BEGIN:VEVENT
DTSTART;TZID=Europe/Stockholm:20180110T190000
DTEND;TZID=Europe/Stockholm:20180110T210000
DTSTAMP:20260425T183426
CREATED:20180104T121737Z
LAST-MODIFIED:20180104T121737Z
UID:8964-1515610800-1515618000@uppsalafotografiska.se
SUMMARY:Fotopromenad - Återträff
DESCRIPTION:Återträff med bilddiskussion \n
URL:https://uppsalafotografiska.se/event/fotopromenad-atertraff-4/
ATTACH;FMTTYPE=image/jpeg:https://uppsalafotografiska.se/wp-content/uploads/2018/01/6e931580c5f199c633ec0e4beb0f2d28.jpg
END:VEVENT
END:VCALENDAR