BEGIN:VCALENDAR
VERSION:2.0
PRODID:-//Uppsala fotografiska sällskap - ECPv4.9.14//NONSGML v1.0//EN
CALSCALE:GREGORIAN
METHOD:PUBLISH
X-WR-CALNAME:Uppsala fotografiska sällskap
X-ORIGINAL-URL:https://uppsalafotografiska.se
X-WR-CALDESC:Events for Uppsala fotografiska sällskap
BEGIN:VTIMEZONE
TZID:Europe/Stockholm
BEGIN:DAYLIGHT
TZOFFSETFROM:+0100
TZOFFSETTO:+0200
TZNAME:CEST
DTSTART:20170326T010000
END:DAYLIGHT
BEGIN:STANDARD
TZOFFSETFROM:+0200
TZOFFSETTO:+0100
TZNAME:CET
DTSTART:20171029T010000
END:STANDARD
END:VTIMEZONE
BEGIN:VEVENT
DTSTART;TZID=Europe/Stockholm:20171204T190000
DTEND;TZID=Europe/Stockholm:20171204T210000
DTSTAMP:20260425T115341
CREATED:20171129T003808Z
LAST-MODIFIED:20171129T003808Z
UID:7573-1512414000-1512421200@uppsalafotografiska.se
SUMMARY:Fotoutmaningen: träffas för att välja ut bilder till utställning
DESCRIPTION:Fotoutmaningen träffas för att välja bilder till utställningen som är planerad till januari. \n
URL:https://uppsalafotografiska.se/event/fotoutmaningen-traffas-for-att-valja-ut-bilder-till-utstallning/
ATTACH;FMTTYPE=image/jpeg:https://uppsalafotografiska.se/wp-content/uploads/2017/12/0f0494c669b62dea312b4d45b628f93f.jpg
END:VEVENT
END:VCALENDAR