BEGIN:VCALENDAR
VERSION:2.0
PRODID:-//Uppsala fotografiska sällskap - ECPv4.9.14//NONSGML v1.0//EN
CALSCALE:GREGORIAN
METHOD:PUBLISH
X-WR-CALNAME:Uppsala fotografiska sällskap
X-ORIGINAL-URL:https://uppsalafotografiska.se
X-WR-CALDESC:Events for Uppsala fotografiska sällskap
BEGIN:VTIMEZONE
TZID:Europe/Stockholm
BEGIN:DAYLIGHT
TZOFFSETFROM:+0100
TZOFFSETTO:+0200
TZNAME:CEST
DTSTART:20250330T010000
END:DAYLIGHT
BEGIN:STANDARD
TZOFFSETFROM:+0200
TZOFFSETTO:+0100
TZNAME:CET
DTSTART:20251026T010000
END:STANDARD
END:VTIMEZONE
BEGIN:VEVENT
DTSTART;TZID=Europe/Stockholm:20250503T130000
DTEND;TZID=Europe/Stockholm:20250503T170000
DTSTAMP:20260421T120545
CREATED:20250410T145927Z
LAST-MODIFIED:20250410T145927Z
UID:23178-1746277200-1746291600@uppsalafotografiska.se
SUMMARY:Gatufotoutställning
DESCRIPTION:\nUnder lite drygt ett år har gatufotogruppen varit aktiva. Nu ställer flera av deltagarna ut gatufotografier. Du kommer att få se stor variation på bildspråk och olika tolkningar av gatufoto.\nUtställningen går att se på följande tillfällen:\nVernissage lördag 3 maj kl. 13-17\nVisning onsdag 7 maj kl. 18-20\nVisning söndag 11 maj kl. 13-15\nVisning och finisage torsdag 15 maj kl. 18-20.\nVarmt välkommen! \n\n
URL:https://uppsalafotografiska.se/event/gatufotoutstallning/
LOCATION:Uppsala Fotografiska Sällskap\, Övre Slottsgatan 14A\, Uppsala\, 753 10\, Sverige
ATTACH;FMTTYPE=image/bmp:https://uppsalafotografiska.se/wp-content/uploads/2025/04/ycl41vvn.bmp
END:VEVENT
END:VCALENDAR