BEGIN:VCALENDAR
VERSION:2.0
PRODID:-//Uppsala fotografiska sällskap - ECPv4.9.14//NONSGML v1.0//EN
CALSCALE:GREGORIAN
METHOD:PUBLISH
X-WR-CALNAME:Uppsala fotografiska sällskap
X-ORIGINAL-URL:https://uppsalafotografiska.se
X-WR-CALDESC:Events for Uppsala fotografiska sällskap
BEGIN:VTIMEZONE
TZID:Europe/Stockholm
BEGIN:DAYLIGHT
TZOFFSETFROM:+0100
TZOFFSETTO:+0200
TZNAME:CEST
DTSTART:20170326T010000
END:DAYLIGHT
BEGIN:STANDARD
TZOFFSETFROM:+0200
TZOFFSETTO:+0100
TZNAME:CET
DTSTART:20171029T010000
END:STANDARD
END:VTIMEZONE
BEGIN:VEVENT
DTSTART;TZID=Europe/Stockholm:20171101T180000
DTEND;TZID=Europe/Stockholm:20171101T190000
DTSTAMP:20260422T101941
CREATED:20171022T210054Z
LAST-MODIFIED:20171022T210054Z
UID:6111-1509559200-1509562800@uppsalafotografiska.se
SUMMARY:Höstsalong 2017
DESCRIPTION:Utställningen är öppen! \n
URL:https://uppsalafotografiska.se/event/hostsalong-2017/
ATTACH;FMTTYPE=image/jpeg:https://uppsalafotografiska.se/wp-content/uploads/2017/10/d590bdb0c9c5b15a30c0b45e27b89adb.jpg
END:VEVENT
END:VCALENDAR