BEGIN:VCALENDAR
VERSION:2.0
PRODID:-//Uppsala fotografiska sällskap - ECPv4.9.14//NONSGML v1.0//EN
CALSCALE:GREGORIAN
METHOD:PUBLISH
X-WR-CALNAME:Uppsala fotografiska sällskap
X-ORIGINAL-URL:https://uppsalafotografiska.se
X-WR-CALDESC:Events for Uppsala fotografiska sällskap
BEGIN:VTIMEZONE
TZID:Europe/Stockholm
BEGIN:DAYLIGHT
TZOFFSETFROM:+0100
TZOFFSETTO:+0200
TZNAME:CEST
DTSTART:20170326T010000
END:DAYLIGHT
BEGIN:STANDARD
TZOFFSETFROM:+0200
TZOFFSETTO:+0100
TZNAME:CET
DTSTART:20171029T010000
END:STANDARD
END:VTIMEZONE
BEGIN:VEVENT
DTSTART;TZID=Europe/Stockholm:20171214T190000
DTEND;TZID=Europe/Stockholm:20171214T210000
DTSTAMP:20260425T151133
CREATED:20171212T173254Z
LAST-MODIFIED:20171212T173254Z
UID:8096-1513278000-1513285200@uppsalafotografiska.se
SUMMARY:Lussefika på UFS med Roland Agius och Uppsalas industrihistoria
DESCRIPTION:Sent omsider på Facebook och hemsidan men känt från månadsbrevet. \nVi avslutar 2017 med traditionell Lussefika samt Roland Agius berättelser ur hans bok om Uppsalas industrihistoria. \n
URL:https://uppsalafotografiska.se/event/lussefika-pa-ufs-med-roland-agius-och-uppsalas-industrihistoria/
ATTACH;FMTTYPE=:
END:VEVENT
END:VCALENDAR