BEGIN:VCALENDAR
VERSION:2.0
PRODID:-//Uppsala fotografiska sällskap - ECPv4.9.14//NONSGML v1.0//EN
CALSCALE:GREGORIAN
METHOD:PUBLISH
X-WR-CALNAME:Uppsala fotografiska sällskap
X-ORIGINAL-URL:https://uppsalafotografiska.se
X-WR-CALDESC:Events for Uppsala fotografiska sällskap
BEGIN:VTIMEZONE
TZID:Europe/Stockholm
BEGIN:DAYLIGHT
TZOFFSETFROM:+0100
TZOFFSETTO:+0200
TZNAME:CEST
DTSTART:20250330T010000
END:DAYLIGHT
BEGIN:STANDARD
TZOFFSETFROM:+0200
TZOFFSETTO:+0100
TZNAME:CET
DTSTART:20251026T010000
END:STANDARD
END:VTIMEZONE
BEGIN:VEVENT
DTSTART;TZID=Europe/Stockholm:20250527T190000
DTEND;TZID=Europe/Stockholm:20250527T210000
DTSTAMP:20260422T153635
CREATED:20250104T162325Z
LAST-MODIFIED:20250516T135432Z
UID:22804-1748372400-1748379600@uppsalafotografiska.se
SUMMARY:Månadsmöte - mini foto maraton
DESCRIPTION:OBS!!! Vi träffas på en TISDAG!!! \nDen här gången ordna vi en mini foto maraton! \nVi träffas vid lokalen för att sedan gå ut och fota. Vi titta på och bedöma resultatet samma kväll. \nHålla tummarna för bra väder! \n
URL:https://uppsalafotografiska.se/event/manadsmote-14/
LOCATION:Uppsala Fotografiska Sällskap\, Övre Slottsgatan 14A\, Uppsala\, 753 10\, Sverige
END:VEVENT
END:VCALENDAR