BEGIN:VCALENDAR
VERSION:2.0
PRODID:-//Uppsala fotografiska sällskap - ECPv4.9.14//NONSGML v1.0//EN
CALSCALE:GREGORIAN
METHOD:PUBLISH
X-WR-CALNAME:Uppsala fotografiska sällskap
X-ORIGINAL-URL:https://uppsalafotografiska.se
X-WR-CALDESC:Events for Uppsala fotografiska sällskap
BEGIN:VTIMEZONE
TZID:Europe/Stockholm
BEGIN:DAYLIGHT
TZOFFSETFROM:+0100
TZOFFSETTO:+0200
TZNAME:CEST
DTSTART:20210328T010000
END:DAYLIGHT
BEGIN:STANDARD
TZOFFSETFROM:+0200
TZOFFSETTO:+0100
TZNAME:CET
DTSTART:20211031T010000
END:STANDARD
END:VTIMEZONE
BEGIN:VEVENT
DTSTART;TZID=Europe/Stockholm:20211216T190000
DTEND;TZID=Europe/Stockholm:20211216T213000
DTSTAMP:20260424T211623
CREATED:20211127T083519Z
LAST-MODIFIED:20211127T083519Z
UID:18877-1639681200-1639690200@uppsalafotografiska.se
SUMMARY:Månadsmöte december
DESCRIPTION:Vid detta möte kör vi vår traditionsenlig lussefika med alkoholfritt glugg och lussebullar. Vi träffas i lokalen kl19. \nVinnaren till UFS klubbmästerskap koras också vid mötet. \n
URL:https://uppsalafotografiska.se/event/manadsmote-december-2/
LOCATION:Uppsala Fotografiska Sällskap\, Övre Slottsgatan 14A\, Uppsala\, 753 10\, Sverige
ATTACH;FMTTYPE=image/png:https://uppsalafotografiska.se/wp-content/uploads/2021/11/LusseFika.png
END:VEVENT
END:VCALENDAR