BEGIN:VCALENDAR
VERSION:2.0
PRODID:-//Uppsala fotografiska sällskap - ECPv4.9.14//NONSGML v1.0//EN
CALSCALE:GREGORIAN
METHOD:PUBLISH
X-WR-CALNAME:Uppsala fotografiska sällskap
X-ORIGINAL-URL:https://uppsalafotografiska.se
X-WR-CALDESC:Events for Uppsala fotografiska sällskap
BEGIN:VTIMEZONE
TZID:Europe/Stockholm
BEGIN:DAYLIGHT
TZOFFSETFROM:+0100
TZOFFSETTO:+0200
TZNAME:CEST
DTSTART:20260329T010000
END:DAYLIGHT
BEGIN:STANDARD
TZOFFSETFROM:+0200
TZOFFSETTO:+0100
TZNAME:CET
DTSTART:20261025T010000
END:STANDARD
END:VTIMEZONE
BEGIN:VEVENT
DTSTART;TZID=Europe/Stockholm:20260326T190000
DTEND;TZID=Europe/Stockholm:20260326T210000
DTSTAMP:20260425T231541
CREATED:20260122T162527Z
LAST-MODIFIED:20260323T203411Z
UID:24026-1774551600-1774558800@uppsalafotografiska.se
SUMMARY:Månadsmöte mars - fotosprint
DESCRIPTION:Så är det dags för månadsmöte igen. När vårsolen tittar fram och man kan skruva ner känsligheten passar vi på att fira med en fotosprint. Tre teman på 45 minuter\, passa på att utmana kreativiteten! \n
URL:https://uppsalafotografiska.se/event/manadsmote-mars-3/
LOCATION:Uppsala Fotografiska Sällskap\, Övre Slottsgatan 14A\, Uppsala\, 753 10\, Sverige
CATEGORIES:Månadsmöte
END:VEVENT
END:VCALENDAR