BEGIN:VCALENDAR
VERSION:2.0
PRODID:-//Uppsala fotografiska sällskap - ECPv4.9.14//NONSGML v1.0//EN
CALSCALE:GREGORIAN
METHOD:PUBLISH
X-WR-CALNAME:Uppsala fotografiska sällskap
X-ORIGINAL-URL:https://uppsalafotografiska.se
X-WR-CALDESC:Events for Uppsala fotografiska sällskap
BEGIN:VTIMEZONE
TZID:Europe/Stockholm
BEGIN:DAYLIGHT
TZOFFSETFROM:+0100
TZOFFSETTO:+0200
TZNAME:CEST
DTSTART:20240331T010000
END:DAYLIGHT
BEGIN:STANDARD
TZOFFSETFROM:+0200
TZOFFSETTO:+0100
TZNAME:CET
DTSTART:20241027T010000
END:STANDARD
END:VTIMEZONE
BEGIN:VEVENT
DTSTART;TZID=Europe/Stockholm:20240530T190000
DTEND;TZID=Europe/Stockholm:20240530T210000
DTSTAMP:20260421T175748
CREATED:20240307T213822Z
LAST-MODIFIED:20240523T211443Z
UID:22077-1717095600-1717102800@uppsalafotografiska.se
SUMMARY:Månadsmöte
DESCRIPTION:\n\n\n\n\n\n\n\nKom och testa metoden cyanotopi! \nPå månadsmötet den 30 maj har du möjlighet att testa cyanotopi. Genomgång av metoden\, vi förbereder olika material som du kan testa på och det är bara din fantasi som sätter gränser. Barbro Agstam och Bodil Lidström guidar dig. \n\n\n\n\n\n\n\nMånadsmöte för föreningens medlemmar i lokalen.\nAlltid sista torsdagen varje månad. \n
URL:https://uppsalafotografiska.se/event/manasmote/
LOCATION:Uppsala Fotografiska Sällskap\, Övre Slottsgatan 14A\, Uppsala\, 753 10\, Sverige
ATTACH;FMTTYPE=image/jpeg:https://uppsalafotografiska.se/wp-content/uploads/2024/03/cdb5cb20-cc4b-4449-b208-b2d73402b937.jpg
END:VEVENT
END:VCALENDAR