BEGIN:VCALENDAR
VERSION:2.0
PRODID:-//Uppsala fotografiska sällskap - ECPv4.9.14//NONSGML v1.0//EN
CALSCALE:GREGORIAN
METHOD:PUBLISH
X-WR-CALNAME:Uppsala fotografiska sällskap
X-ORIGINAL-URL:https://uppsalafotografiska.se
X-WR-CALDESC:Events for Uppsala fotografiska sällskap
BEGIN:VTIMEZONE
TZID:Europe/Stockholm
BEGIN:DAYLIGHT
TZOFFSETFROM:+0100
TZOFFSETTO:+0200
TZNAME:CEST
DTSTART:20170326T010000
END:DAYLIGHT
BEGIN:STANDARD
TZOFFSETFROM:+0200
TZOFFSETTO:+0100
TZNAME:CET
DTSTART:20171029T010000
END:STANDARD
END:VTIMEZONE
BEGIN:VEVENT
DTSTART;TZID=Europe/Stockholm:20171219T190000
DTEND;TZID=Europe/Stockholm:20171219T220000
DTSTAMP:20260425T164304
CREATED:20171108T203043Z
LAST-MODIFIED:20171108T203043Z
UID:6799-1513710000-1513720800@uppsalafotografiska.se
SUMMARY:Öppet mörkrum
DESCRIPTION:Vi framkallar färgfilm! \nKan vara intressant att lära sig.. Inte så svårt som det verkar 🙂 \nDet blir även fika och fotosnack 😉 \n
URL:https://uppsalafotografiska.se/event/oppet-morkrum-5/
ATTACH;FMTTYPE=image/jpeg:https://uppsalafotografiska.se/wp-content/uploads/2017/12/0e4883c12c61fee06a615776411e9902.jpg
END:VEVENT
END:VCALENDAR