BEGIN:VCALENDAR
VERSION:2.0
PRODID:-//Uppsala fotografiska sällskap - ECPv4.9.14//NONSGML v1.0//EN
CALSCALE:GREGORIAN
METHOD:PUBLISH
X-WR-CALNAME:Uppsala fotografiska sällskap
X-ORIGINAL-URL:https://uppsalafotografiska.se
X-WR-CALDESC:Events for Uppsala fotografiska sällskap
BEGIN:VTIMEZONE
TZID:Europe/Stockholm
BEGIN:DAYLIGHT
TZOFFSETFROM:+0100
TZOFFSETTO:+0200
TZNAME:CEST
DTSTART:20180325T010000
END:DAYLIGHT
BEGIN:STANDARD
TZOFFSETFROM:+0200
TZOFFSETTO:+0100
TZNAME:CET
DTSTART:20181028T010000
END:STANDARD
END:VTIMEZONE
BEGIN:VEVENT
DTSTART;TZID=Europe/Stockholm:20180130T190000
DTEND;TZID=Europe/Stockholm:20180130T230000
DTSTAMP:20260426T030701
CREATED:20180120T160033Z
LAST-MODIFIED:20180120T160033Z
UID:9602-1517338800-1517353200@uppsalafotografiska.se
SUMMARY:Öppet Mörkrum
DESCRIPTION:Den 30/1 är det dags för Öppet Mörkrum på UFS igen. Denna gång kommer vi att ha fokus på att framställa papperskopior i mörkrummet men det kommer även att finnas möjlighet att framkalla både svartvit och färgfilm. Papper och färdigblandad kemi kommer att finnas på plats så du som är nyfiken på hur processen går till eller vill komma igång i mörkrummet igen behöver bara ta med dig ett eget negativ. Detta event är gratis och öppet även för dig som är nyfiken men kanske ännu inte är medlem i föreningen.\nSom inspiration kan filmen om Jean Hermanson på SVT-Play rekommenderas. En mycket intressant fotograf som dessutom var en mästare i mörkrummet https://www.svtplay.se/video/15737966/himlens-morkrum/himlens-morkrum \n
URL:https://uppsalafotografiska.se/event/oppet-morkrum-7/
ATTACH;FMTTYPE=image/jpeg:https://uppsalafotografiska.se/wp-content/uploads/2018/01/00e0d3e1363529c8508660f2d669e3dc.jpg
END:VEVENT
END:VCALENDAR