BEGIN:VCALENDAR
VERSION:2.0
PRODID:-//Uppsala fotografiska sällskap - ECPv4.9.14//NONSGML v1.0//EN
CALSCALE:GREGORIAN
METHOD:PUBLISH
X-WR-CALNAME:Uppsala fotografiska sällskap
X-ORIGINAL-URL:https://uppsalafotografiska.se
X-WR-CALDESC:Events for Uppsala fotografiska sällskap
BEGIN:VTIMEZONE
TZID:Europe/Stockholm
BEGIN:DAYLIGHT
TZOFFSETFROM:+0100
TZOFFSETTO:+0200
TZNAME:CEST
DTSTART:20240331T010000
END:DAYLIGHT
BEGIN:STANDARD
TZOFFSETFROM:+0200
TZOFFSETTO:+0100
TZNAME:CET
DTSTART:20241027T010000
END:STANDARD
END:VTIMEZONE
BEGIN:VEVENT
DTSTART;TZID=Europe/Stockholm:20240901T123000
DTEND;TZID=Europe/Stockholm:20240919T210000
DTSTAMP:20260425T021822
CREATED:20240825T205127Z
LAST-MODIFIED:20240826T203053Z
UID:22523-1725193800-1726779600@uppsalafotografiska.se
SUMMARY:UFS ställer ut på Missionskyrkan
DESCRIPTION:Fjorton fotografer från Uppsala fotografiska sällskap ställer ut på Missionskyrkan  \nTema: Tro\, hopp och kärlek  \nI dag pågår flera krig\, konflikter och oroligheter runt om i världen. Hur upplever vi den otrygghet som det kan skapa? Vad har vi för frågor och tankar inför framtiden? \nI utställningen tro hopp och kärlek presenterar fotografer från Uppsala fotografiska sällskap hur de tolkat temat. \nPlats: Missionskyrkan\, Galleriet 1 tr\, S:t Olofsgatan 40\, Uppsala \nVernissage: 1 september kl 12.30-14\nUtställningen pågår 1–19 september\nÖppet: mån-tor kl 8-21\, fre kl 8-15\, sön kl 10-13 \nVälkommen att beröras! \n
URL:https://uppsalafotografiska.se/event/ufs-staller-ut-pa-missionskyrkan/
LOCATION:Missionskyrkan\, S:t Olofsgatan 40\, Uppsala\, Sverige
CATEGORIES:Utställning
ATTACH;FMTTYPE=image/jpeg:https://uppsalafotografiska.se/wp-content/uploads/2024/08/Midsommardans.jpg
END:VEVENT
END:VCALENDAR