BEGIN:VCALENDAR
VERSION:2.0
PRODID:-//Uppsala fotografiska sällskap - ECPv4.9.14//NONSGML v1.0//EN
CALSCALE:GREGORIAN
METHOD:PUBLISH
X-WR-CALNAME:Uppsala fotografiska sällskap
X-ORIGINAL-URL:https://uppsalafotografiska.se
X-WR-CALDESC:Events for Uppsala fotografiska sällskap
BEGIN:VTIMEZONE
TZID:Europe/Stockholm
BEGIN:DAYLIGHT
TZOFFSETFROM:+0100
TZOFFSETTO:+0200
TZNAME:CEST
DTSTART:20260329T010000
END:DAYLIGHT
BEGIN:STANDARD
TZOFFSETFROM:+0200
TZOFFSETTO:+0100
TZNAME:CET
DTSTART:20261025T010000
END:STANDARD
END:VTIMEZONE
BEGIN:VEVENT
DTSTART;TZID=Europe/Stockholm:20260223T190000
DTEND;TZID=Europe/Stockholm:20260223T210000
DTSTAMP:20260425T040609
CREATED:20260119T193539Z
LAST-MODIFIED:20260212T164829Z
UID:23949-1771873200-1771880400@uppsalafotografiska.se
SUMMARY:Utmaningen februari
DESCRIPTION:Månadens teman är Trångt och Väntan \nSom deltagare får man tolka teman hur man vill och lämna in bidrag på förhand. Alla som är med får kopior på samtliga bidrag och kan då förbereda sina kommentar på förhand. Sedan träffas gruppen i lokalen för att diskutera bild och bilder. \nFör mer info mejla till ingegerd@uppsalafotografiska.se \n
URL:https://uppsalafotografiska.se/event/utmaningen-februari/
LOCATION:Uppsala Fotografiska Sällskap\, Övre Slottsgatan 14A\, Uppsala\, 753 10\, Sverige
ATTACH;FMTTYPE=image/jpeg:https://uppsalafotografiska.se/wp-content/uploads/2026/01/TL9A1367-trangt-Kurre-scaled.jpg
END:VEVENT
END:VCALENDAR