BEGIN:VCALENDAR
VERSION:2.0
PRODID:-//Uppsala fotografiska sällskap - ECPv4.9.14//NONSGML v1.0//EN
CALSCALE:GREGORIAN
METHOD:PUBLISH
X-WR-CALNAME:Uppsala fotografiska sällskap
X-ORIGINAL-URL:https://uppsalafotografiska.se
X-WR-CALDESC:Events for Uppsala fotografiska sällskap
BEGIN:VTIMEZONE
TZID:Europe/Stockholm
BEGIN:DAYLIGHT
TZOFFSETFROM:+0100
TZOFFSETTO:+0200
TZNAME:CEST
DTSTART:20190331T010000
END:DAYLIGHT
BEGIN:STANDARD
TZOFFSETFROM:+0200
TZOFFSETTO:+0100
TZNAME:CET
DTSTART:20191027T010000
END:STANDARD
END:VTIMEZONE
BEGIN:VEVENT
DTSTART;TZID=Europe/Stockholm:20190511T130000
DTEND;TZID=Europe/Stockholm:20190511T150000
DTSTAMP:20260419T152911
CREATED:20190502T114417Z
LAST-MODIFIED:20190502T114417Z
UID:15431-1557579600-1557586800@uppsalafotografiska.se
SUMMARY:Vårsalong på Uppsala Fotografiska Sällskap
DESCRIPTION:Lördagen den 11/5 1300-1500 är det vernissage för Uppsala Fotografiska Sällskaps traditionsenliga vårsalong!\nKlubbens medlemmar visar sina bästa bilder\, välkommen!\nKan du inte komma på vernissagen visas utställningen även 1300-1500 lördagarna den 18/5\, 25/5 och den 1/6. \n
URL:https://uppsalafotografiska.se/event/varsalong-pa-uppsala-fotografiska-sallskap/
ATTACH;FMTTYPE=image/jpeg:https://uppsalafotografiska.se/wp-content/uploads/2019/05/Vårsalongen_2019_liten.jpg
END:VEVENT
END:VCALENDAR