BEGIN:VCALENDAR
VERSION:2.0
PRODID:-//Uppsala fotografiska sällskap - ECPv4.9.14//NONSGML v1.0//EN
CALSCALE:GREGORIAN
METHOD:PUBLISH
X-WR-CALNAME:Uppsala fotografiska sällskap
X-ORIGINAL-URL:https://uppsalafotografiska.se
X-WR-CALDESC:Events for Uppsala fotografiska sällskap
BEGIN:VTIMEZONE
TZID:Europe/Stockholm
BEGIN:DAYLIGHT
TZOFFSETFROM:+0100
TZOFFSETTO:+0200
TZNAME:CEST
DTSTART:20250330T010000
END:DAYLIGHT
BEGIN:STANDARD
TZOFFSETFROM:+0200
TZOFFSETTO:+0100
TZNAME:CET
DTSTART:20251026T010000
END:STANDARD
END:VTIMEZONE
BEGIN:VEVENT
DTSTART;TZID=Europe/Stockholm:20250521T170000
DTEND;TZID=Europe/Stockholm:20250521T200000
DTSTAMP:20260422T210509
CREATED:20250513T093354Z
LAST-MODIFIED:20250513T093354Z
UID:23300-1747846800-1747857600@uppsalafotografiska.se
SUMMARY:Vårsalong Visning
DESCRIPTION:Vårsalongen visar i år verk av 19 fotografer från UFS.\nMissa inte att ta del av dessa!\nVälkomna! \n
URL:https://uppsalafotografiska.se/event/varsalong-visning/
LOCATION:Uppsala Fotografiska Sällskap\, Övre Slottsgatan 14A\, Uppsala\, 753 10\, Sverige
ATTACH;FMTTYPE=image/jpeg:https://uppsalafotografiska.se/wp-content/uploads/2025/04/Varsalong-affisch-2025_klar.jpg
END:VEVENT
END:VCALENDAR