BEGIN:VCALENDAR
VERSION:2.0
PRODID:-//Uppsala fotografiska sällskap - ECPv4.9.14//NONSGML v1.0//EN
CALSCALE:GREGORIAN
METHOD:PUBLISH
X-WR-CALNAME:Uppsala fotografiska sällskap
X-ORIGINAL-URL:https://uppsalafotografiska.se
X-WR-CALDESC:Events for Uppsala fotografiska sällskap
BEGIN:VTIMEZONE
TZID:Europe/Stockholm
BEGIN:DAYLIGHT
TZOFFSETFROM:+0100
TZOFFSETTO:+0200
TZNAME:CEST
DTSTART:20240331T010000
END:DAYLIGHT
BEGIN:STANDARD
TZOFFSETFROM:+0200
TZOFFSETTO:+0100
TZNAME:CET
DTSTART:20241027T010000
END:STANDARD
END:VTIMEZONE
BEGIN:VEVENT
DTSTART;TZID=Europe/Stockholm:20240907T130000
DTEND;TZID=Europe/Stockholm:20240907T160000
DTSTAMP:20260425T043505
CREATED:20240825T124509Z
LAST-MODIFIED:20240826T083827Z
UID:22506-1725714000-1725724800@uppsalafotografiska.se
SUMMARY:Vernissage Höstsalongen
DESCRIPTION:Kontrast är temat för 2024 års höstsalong och den 7 sept är det vernissage.\nUtställningen visas även onsdag 11 sept 18.00-20.00 och\npå Kulturnatten 14 sept\, 17.00-22.00.\nVälkomna!\nUTSTÄLLARE:\nPeter Burman\, Jonas Boström\, Melina Reid\, Barbro Agstam\,\nEva Silver Granhall\, Johanna Liljestrand Rönn\, Caroline Kivi\, Rolf Strandberg\,\nPatrik Lööw\, Anna Lundgren\, Selcuk Yaldir\, Tommy Öberg\,\nKajza Jansson Fredell\, Aleksandr Nariadchikov\, Ingegerd Boström Carlsson\,\nMalin Vretblad Plesse\,  Tobias Fasth. \nFoto: Aleksandr Nariadchikov\n \n
URL:https://uppsalafotografiska.se/event/vernissage-hostsalongen/
LOCATION:Uppsala Fotografiska Sällskap\, Övre Slottsgatan 14A\, Uppsala\, 753 10\, Sverige
ATTACH;FMTTYPE=image/jpeg:https://uppsalafotografiska.se/wp-content/uploads/2024/08/3-copy-scaled.jpg
END:VEVENT
END:VCALENDAR