BEGIN:VCALENDAR
VERSION:2.0
PRODID:-//Uppsala fotografiska sällskap - ECPv4.9.14//NONSGML v1.0//EN
CALSCALE:GREGORIAN
METHOD:PUBLISH
X-WR-CALNAME:Uppsala fotografiska sällskap
X-ORIGINAL-URL:https://uppsalafotografiska.se
X-WR-CALDESC:Events for Uppsala fotografiska sällskap
BEGIN:VTIMEZONE
TZID:Europe/Stockholm
BEGIN:DAYLIGHT
TZOFFSETFROM:+0100
TZOFFSETTO:+0200
TZNAME:CEST
DTSTART:20250330T010000
END:DAYLIGHT
BEGIN:STANDARD
TZOFFSETFROM:+0200
TZOFFSETTO:+0100
TZNAME:CET
DTSTART:20251026T010000
END:STANDARD
END:VTIMEZONE
BEGIN:VEVENT
DTSTART;TZID=Europe/Stockholm:20250507T180000
DTEND;TZID=Europe/Stockholm:20250507T200000
DTSTAMP:20260421T152510
CREATED:20250505T151626Z
LAST-MODIFIED:20250505T151749Z
UID:23267-1746640800-1746648000@uppsalafotografiska.se
SUMMARY:Visning Street Foto utställning
DESCRIPTION: \n
URL:https://uppsalafotografiska.se/event/visning-street-foto-utstallning/
LOCATION:Uppsala Fotografiska Sällskap\, Övre Slottsgatan 14A\, Uppsala\, 753 10\, Sverige
END:VEVENT
END:VCALENDAR